<?xml version="1.0" encoding="utf-8"?>
<!--Generated by Marushka, version 4.2.22.7, GEOVAP, spol.s r.o., 16.09.2026.-->
<Capabilities xmlns:xsd="http://www.w3.org/2001/XMLSchema" xmlns:xsi="http://www.w3.org/2001/XMLSchema-instance" xmlns:ows="http://www.opengis.net/ows/1.1" xmlns:xlink="http://www.w3.org/1999/xlink" version="1.0.0" xsi:schemaLocation="http://www.opengis.net/wmts/1.0 http://schemas.opengis.net/wmts/1.0/wmtsGetCapabilities_response.xsd" xmlns="http://www.opengis.net/wmts/1.0">
  <ows:ServiceIdentification>
    <ows:Title>WMTS Katastrální mapy v systému S-JTSK</ows:Title>
    <ows:Abstract>WMTS pro katastrální mapy - CUZK. Služba poskytuje data v souřadnicovém systému S-JTSK. Poskytuje obraz definičních bodů budov, definičních bodů parcel, hranic parcel, katastrální mapy (KN) a věcných břemen.Všechny vrstvy kromě přehledové jsou poskytovány v úrovních 10 (1 : 7 144) - 19 (1 : 13). V případě menších měřítek je zobrazena informace která udává, že data nejsou pro dané měřítko dostupná.</ows:Abstract>
    <ows:ServiceType>OGC WMTS</ows:ServiceType>
    <ows:ServiceTypeVersion>1.0.0</ows:ServiceTypeVersion>
  </ows:ServiceIdentification>
  <ows:ServiceProvider>
    <ows:ProviderName>Český úřad zeměměřický a katastrální</ows:ProviderName>
    <ows:ProviderSite xlink:type="simple" xlink:href="https://cuzk.cz" /> 
    <ows:ServiceContact>
      <ows:IndividualName>Sekce centrální databáze</ows:IndividualName>
      <ows:ContactInfo>
        <ows:Phone>
          <ows:Voice>+420 284 044 455</ows:Voice>
        </ows:Phone>
        <ows:Address>
          <ows:DeliveryPoint>Pod sídlištěm 9</ows:DeliveryPoint>
          <ows:City>Praha</ows:City>
          <ows:PostalCode>182 11</ows:PostalCode>
          <ows:Country>Česká republika</ows:Country>
          <ows:ElectronicMailAddress>cuzk.helpdesk@cuzk.cz</ows:ElectronicMailAddress>
        </ows:Address>
      </ows:ContactInfo>
    </ows:ServiceContact>
  </ows:ServiceProvider>
  <ows:OperationsMetadata>
    <ows:Operation name="GetCapabilities">
      <ows:DCP>
        <ows:HTTP>
          <ows:Get xlink:type="simple" xlink:href="https://services.cuzk.cz/wmts/local-km-wmts-jtsk.asp">
            <ows:Constraint name="GetEncoding">
              <ows:AllowedValues>
                <ows:Value>KVP</ows:Value>
              </ows:AllowedValues>
            </ows:Constraint>
          </ows:Get>
		  <ows:Get xlink:href="https://services.cuzk.cz/wmts/local-km-wmts-jtsk/rest/WMTS/1.0.0/WMTSCapabilities.xml">
                <ows:Constraint name="GetEncoding">
                    <ows:AllowedValues>
                        <ows:Value>RESTful</ows:Value>
                    </ows:AllowedValues>
                </ows:Constraint>
            </ows:Get>
        </ows:HTTP>
      </ows:DCP>
    </ows:Operation>
    <ows:Operation name="GetTile">
      <ows:DCP>
        <ows:HTTP>
          <ows:Get xlink:type="simple" xlink:href="https://services.cuzk.cz/wmts/local-km-wmts-jtsk.asp">
            <ows:Constraint name="GetEncoding">
              <ows:AllowedValues>
                <ows:Value>KVP</ows:Value>
              </ows:AllowedValues>
            </ows:Constraint>
          </ows:Get>
		  <ows:Get xlink:href="https://services.cuzk.cz/wmts/local-km-wmts-jtsk/rest/WMTS/">
                <ows:Constraint name="GetEncoding">
                    <ows:AllowedValues>
                        <ows:Value>RESTful</ows:Value>
                    </ows:AllowedValues>
                </ows:Constraint>
            </ows:Get>
        </ows:HTTP>
      </ows:DCP>
    </ows:Operation>
  </ows:OperationsMetadata>
  <Contents>
    <Layer>
      <ows:Title>Definiční body budov</ows:Title>
      <ows:Abstract>Vrstva definičních bodů budov. Dlaždice s daty jsou poskytovány v úrovních 10 (1 : 7 144) - 19 (1 : 13). V případě menších měřítek je zobrazena informace udávající, že data nejsou pro dané měřítko dostupná.</ows:Abstract>
      <ows:WGS84BoundingBox crs="urn:ogc:def:crs:OGC:2:84">
        <ows:LowerCorner>11 48</ows:LowerCorner>
        <ows:UpperCorner>19 52</ows:UpperCorner>
      </ows:WGS84BoundingBox>
      <ows:Identifier>DEF_BUDOVY</ows:Identifier>
      <Style isDefault="true">
        <ows:Title>default</ows:Title>
        <ows:Identifier>default</ows:Identifier>
      </Style>
      <Format>image/png</Format>
      <TileMatrixSetLink>
        <TileMatrixSet>DEF_BUDOVY</TileMatrixSet>
      </TileMatrixSetLink>
	  <ResourceURL template="https://services.cuzk.cz/wmts/local-km-wmts-jtsk/rest/WMTS/{Style}/{TileMatrixSet}/{TileMatrix}/{TileRow}/{TileCol}" resourceType="tile" format="image/png"/>
    </Layer>
    <Layer>
      <ows:Title>Definiční body parcel</ows:Title>
      <ows:Abstract>Vrstva definičních bodů parcel. Dlaždice s daty jsou poskytovány v úrovních 10 (1 : 7 144) - 19 (1 : 13). V případě menších měřítek je zobrazena informace udávající, že data nejsou pro dané měřítko dostupná.</ows:Abstract>
      <ows:WGS84BoundingBox crs="urn:ogc:def:crs:OGC:2:84">
        <ows:LowerCorner>11 48</ows:LowerCorner>
        <ows:UpperCorner>19 52</ows:UpperCorner>
      </ows:WGS84BoundingBox>
      <ows:Identifier>DEF_PARCELY</ows:Identifier>
      <Style isDefault="true">
        <ows:Title>default</ows:Title>
        <ows:Identifier>default</ows:Identifier>
      </Style>
      <Format>image/png</Format>
      <TileMatrixSetLink>
        <TileMatrixSet>DEF_PARCELY</TileMatrixSet>
      </TileMatrixSetLink>
	  <ResourceURL template="https://services.cuzk.cz/wmts/local-km-wmts-jtsk/rest/WMTS/{Style}/{TileMatrixSet}/{TileMatrix}/{TileRow}/{TileCol}" resourceType="tile" format="image/png"/>
    </Layer>
    <Layer>
      <ows:Title>Hranice parcel barevné</ows:Title>
      <ows:Abstract>Vrstva s barevnými hranicemi parcel. Dlaždice s daty jsou poskytovány v úrovních 10 (1 : 7 144) - 19 (1 : 13). V případě menších měřítek je zobrazena informace udávající, že data nejsou pro dané měřítko dostupná.</ows:Abstract>
      <ows:WGS84BoundingBox crs="urn:ogc:def:crs:OGC:2:84">
        <ows:LowerCorner>11 48</ows:LowerCorner>
        <ows:UpperCorner>19 52</ows:UpperCorner>
      </ows:WGS84BoundingBox>
      <ows:Identifier>HP_BAREVNE</ows:Identifier>
      <Style isDefault="true">
        <ows:Title>default</ows:Title>
        <ows:Identifier>default</ows:Identifier>
      </Style>
      <Format>image/png</Format>
      <TileMatrixSetLink>
        <TileMatrixSet>HP_BAREVNE</TileMatrixSet>
      </TileMatrixSetLink>
	  <ResourceURL template="https://services.cuzk.cz/wmts/local-km-wmts-jtsk/rest/WMTS/{Style}/{TileMatrixSet}/{TileMatrix}/{TileRow}/{TileCol}" resourceType="tile" format="image/png"/>
    </Layer>
    <Layer>
      <ows:Title>Katastrální mapa (KN)</ows:Title>
      <ows:Abstract>Vrstva katastrální mapy (KN). Dlaždice s daty jsou poskytovány v úrovních 10 (1 : 7 144) - 19 (1 : 13). V případě menších měřítek je zobrazena informace udávající, že data nejsou pro dané měřítko dostupná.</ows:Abstract>
      <ows:WGS84BoundingBox crs="urn:ogc:def:crs:OGC:2:84">
        <ows:LowerCorner>11 48</ows:LowerCorner>
        <ows:UpperCorner>19 52</ows:UpperCorner>
      </ows:WGS84BoundingBox>
      <ows:Identifier>KN</ows:Identifier>
      <Style isDefault="true">
        <ows:Title>default</ows:Title>
        <ows:Identifier>default</ows:Identifier>
      </Style>
      <Style>
        <ows:Title>Yellow (žlutý) - pro zobrazení nad ortofotem</ows:Title>
        <ows:Identifier>Yellow</ows:Identifier>
      </Style>
      <Style>
        <ows:Title>Red (červený)</ows:Title>
        <ows:Identifier>Red</ows:Identifier>
      </Style>
      <Style>
        <ows:Title>Blue (modrý)</ows:Title>
        <ows:Identifier>Blue</ows:Identifier>
      </Style>
      <Format>image/png</Format>
      <TileMatrixSetLink>
        <TileMatrixSet>KN</TileMatrixSet>
      </TileMatrixSetLink>
	  <ResourceURL template="https://services.cuzk.cz/wmts/local-km-wmts-jtsk/rest/WMTS/{Style}/{TileMatrixSet}/{TileMatrix}/{TileRow}/{TileCol}" resourceType="tile" format="image/png"/>
    </Layer>
    <Layer>
      <ows:Title>Katastrální mapa (KN) inverzní</ows:Title>
      <ows:Abstract>Vrstva katastrální mapy (KN) inverzní. Dlaždice s daty jsou poskytovány v úrovních 10 (1 : 7 144) - 19 (1 : 13). V případě menších měřítek je zobrazena informace udávající, že data nejsou pro dané měřítko dostupná.</ows:Abstract>
      <ows:WGS84BoundingBox crs="urn:ogc:def:crs:OGC:2:84">
        <ows:LowerCorner>11 48</ows:LowerCorner>
        <ows:UpperCorner>19 52</ows:UpperCorner>
      </ows:WGS84BoundingBox>
      <ows:Identifier>KN_I</ows:Identifier>
      <Style isDefault="true">
        <ows:Title>default</ows:Title>
        <ows:Identifier>default</ows:Identifier>
      </Style>
      <Format>image/png</Format>
      <TileMatrixSetLink>
        <TileMatrixSet>KN_I</TileMatrixSet>
      </TileMatrixSetLink>
	  <ResourceURL template="https://services.cuzk.cz/wmts/local-km-wmts-jtsk/rest/WMTS/{Style}/{TileMatrixSet}/{TileMatrix}/{TileRow}/{TileCol}" resourceType="tile" format="image/png"/>
    </Layer>
    <Layer>
      <ows:Title>Přehledová mapa</ows:Title>
      <ows:Abstract>Vrstva přehledové mapy. V závislosti na úrovni dlaždic se zobrazují hranice krajů, hranice katastrálních pracovišť, nebo hranice katastrálních území.</ows:Abstract>
      <ows:WGS84BoundingBox crs="urn:ogc:def:crs:OGC:2:84">
        <ows:LowerCorner>11 48</ows:LowerCorner>
        <ows:UpperCorner>19 52</ows:UpperCorner>
      </ows:WGS84BoundingBox>
      <ows:Identifier>00.OverviewMap</ows:Identifier>
      <Style isDefault="true">
        <ows:Title>default</ows:Title>
        <ows:Identifier>default</ows:Identifier>
      </Style>
      <Format>image/png</Format>
      <TileMatrixSetLink>
        <TileMatrixSet>OV_MAP</TileMatrixSet>
      </TileMatrixSetLink>
	  <ResourceURL template="https://services.cuzk.cz/wmts/local-km-wmts-jtsk/rest/WMTS/{Style}/{TileMatrixSet}/{TileMatrix}/{TileRow}/{TileCol}" resourceType="tile" format="image/png"/>
    </Layer>
    <Layer>
      <ows:Title>Věcná břemena</ows:Title>
      <ows:Abstract>Vrstva obsahující věcná břemena. Dlaždice s daty jsou poskytovány v úrovních 10 (1 : 7 144) - 19 (1 : 13). V případě menších měřítek je zobrazena informace udávající, že data nejsou pro dané měřítko dostupná.</ows:Abstract>
      <ows:WGS84BoundingBox crs="urn:ogc:def:crs:OGC:2:84">
        <ows:LowerCorner>11 48</ows:LowerCorner>
        <ows:UpperCorner>19 52</ows:UpperCorner>
      </ows:WGS84BoundingBox>
      <ows:Identifier>VB</ows:Identifier>
      <Style isDefault="true">
        <ows:Title>default</ows:Title>
        <ows:Identifier>default</ows:Identifier>
      </Style>
      <Format>image/png</Format>
      <TileMatrixSetLink>
        <TileMatrixSet>VB</TileMatrixSet>
      </TileMatrixSetLink>
	  <ResourceURL template="https://services.cuzk.cz/wmts/local-km-wmts-jtsk/rest/WMTS/{Style}/{TileMatrixSet}/{TileMatrix}/{TileRow}/{TileCol}" resourceType="tile" format="image/png"/>
    </Layer>
    <Layer>
      <ows:Title>Věcná břemena (hranice)</ows:Title>
      <ows:Abstract>Vrstva obsahující hranice věcných břemen. Dlaždice s daty jsou poskytovány v úrovních 10 (1 : 7 144) - 19 (1 : 13). V případě menších měřítek je zobrazena informace udávající, že data nejsou pro dané měřítko dostupná.</ows:Abstract>
      <ows:WGS84BoundingBox crs="urn:ogc:def:crs:OGC:2:84">
        <ows:LowerCorner>11 48</ows:LowerCorner>
        <ows:UpperCorner>19 52</ows:UpperCorner>
      </ows:WGS84BoundingBox>
      <ows:Identifier>VB_HRANICE</ows:Identifier>
      <Style isDefault="true">
        <ows:Title>default</ows:Title>
        <ows:Identifier>default</ows:Identifier>
      </Style>
      <Style>
        <ows:Title>Yellow (žlutý) - pro zobrazení nad ortofotem</ows:Title>
        <ows:Identifier>Yellow</ows:Identifier>
      </Style>
      <Style>
        <ows:Title>Red (červený)</ows:Title>
        <ows:Identifier>Red</ows:Identifier>
      </Style>
      <Style>
        <ows:Title>Blue (modrý)</ows:Title>
        <ows:Identifier>Blue</ows:Identifier>
      </Style>
      <Format>image/png</Format>
      <TileMatrixSetLink>
        <TileMatrixSet>VB_HRANICE</TileMatrixSet>
      </TileMatrixSetLink>
	  <ResourceURL template="https://services.cuzk.cz/wmts/local-km-wmts-jtsk/rest/WMTS/{Style}/{TileMatrixSet}/{TileMatrix}/{TileRow}/{TileCol}" resourceType="tile" format="image/png"/>
    </Layer>
    <TileMatrixSet>
      <ows:Abstract>Definiční body budov</ows:Abstract>
      <ows:Identifier>DEF_BUDOVY</ows:Identifier>
      <ows:SupportedCRS>EPSG:5514</ows:SupportedCRS>
	  <TileMatrix>
        <ows:Abstract>Zoom_00</ows:Abstract>
        <ows:Identifier>0</ows:Identifier>
        <ScaleDenominator>7315200.0</ScaleDenominator>
        <TopLeftCorner>-925000 -920000</TopLeftCorner>
        <TileWidth>256</TileWidth>
        <TileHeight>256</TileHeight>
        <MatrixWidth>1</MatrixWidth>
        <MatrixHeight>1</MatrixHeight>
      </TileMatrix>
      <TileMatrix>
        <ows:Abstract>Zoom_01</ows:Abstract>
        <ows:Identifier>1</ows:Identifier>
        <ScaleDenominator>3657600.0</ScaleDenominator>
        <TopLeftCorner>-925000 -920000</TopLeftCorner>
        <TileWidth>256</TileWidth>
        <TileHeight>256</TileHeight>
        <MatrixWidth>2</MatrixWidth>
        <MatrixHeight>2</MatrixHeight>
      </TileMatrix>
      <TileMatrix>
        <ows:Abstract>Zoom_02</ows:Abstract>
        <ows:Identifier>2</ows:Identifier>
        <ScaleDenominator>1828800.0</ScaleDenominator>
        <TopLeftCorner>-925000 -920000</TopLeftCorner>
        <TileWidth>256</TileWidth>
        <TileHeight>256</TileHeight>
        <MatrixWidth>4</MatrixWidth>
        <MatrixHeight>4</MatrixHeight>
      </TileMatrix>
      <TileMatrix>
        <ows:Abstract>Zoom_03</ows:Abstract>
        <ows:Identifier>3</ows:Identifier>
        <ScaleDenominator>914400.0</ScaleDenominator>
        <TopLeftCorner>-925000 -920000</TopLeftCorner>
        <TileWidth>256</TileWidth>
        <TileHeight>256</TileHeight>
        <MatrixWidth>8</MatrixWidth>
        <MatrixHeight>8</MatrixHeight>
      </TileMatrix>
      <TileMatrix>
        <ows:Abstract>Zoom_04</ows:Abstract>
        <ows:Identifier>4</ows:Identifier>
        <ScaleDenominator>457200.0</ScaleDenominator>
        <TopLeftCorner>-925000 -920000</TopLeftCorner>
        <TileWidth>256</TileWidth>
        <TileHeight>256</TileHeight>
        <MatrixWidth>16</MatrixWidth>
        <MatrixHeight>16</MatrixHeight>
      </TileMatrix>
      <TileMatrix>
        <ows:Abstract>Zoom_05</ows:Abstract>
        <ows:Identifier>5</ows:Identifier>
        <ScaleDenominator>228600.0</ScaleDenominator>
        <TopLeftCorner>-925000 -920000</TopLeftCorner>
        <TileWidth>256</TileWidth>
        <TileHeight>256</TileHeight>
        <MatrixWidth>32</MatrixWidth>
        <MatrixHeight>32</MatrixHeight>
      </TileMatrix>
      <TileMatrix>
        <ows:Abstract>Zoom_06</ows:Abstract>
        <ows:Identifier>6</ows:Identifier>
        <ScaleDenominator>114300.0</ScaleDenominator>
        <TopLeftCorner>-925000 -920000</TopLeftCorner>
        <TileWidth>256</TileWidth>
        <TileHeight>256</TileHeight>
        <MatrixWidth>64</MatrixWidth>
        <MatrixHeight>64</MatrixHeight>
      </TileMatrix>
      <TileMatrix>
        <ows:Abstract>Zoom_07</ows:Abstract>
        <ows:Identifier>7</ows:Identifier>
        <ScaleDenominator>57150.0</ScaleDenominator>
        <TopLeftCorner>-925000 -920000</TopLeftCorner>
        <TileWidth>256</TileWidth>
        <TileHeight>256</TileHeight>
        <MatrixWidth>128</MatrixWidth>
        <MatrixHeight>128</MatrixHeight>
      </TileMatrix>
      <TileMatrix>
        <ows:Abstract>Zoom_08</ows:Abstract>
        <ows:Identifier>8</ows:Identifier>
        <ScaleDenominator>28575.0</ScaleDenominator>
        <TopLeftCorner>-925000 -920000</TopLeftCorner>
        <TileWidth>256</TileWidth>
        <TileHeight>256</TileHeight>
        <MatrixWidth>256</MatrixWidth>
        <MatrixHeight>256</MatrixHeight>
      </TileMatrix>
      <TileMatrix>
        <ows:Abstract>Zoom_09</ows:Abstract>
        <ows:Identifier>9</ows:Identifier>
        <ScaleDenominator>14287.5</ScaleDenominator>
        <TopLeftCorner>-925000 -920000</TopLeftCorner>
        <TileWidth>256</TileWidth>
        <TileHeight>256</TileHeight>
        <MatrixWidth>512</MatrixWidth>
        <MatrixHeight>512</MatrixHeight>
      </TileMatrix>
      <TileMatrix>
        <ows:Abstract>Zoom_10</ows:Abstract>
        <ows:Identifier>10</ows:Identifier>
        <ScaleDenominator>7143.75</ScaleDenominator>
        <TopLeftCorner>-925000 -920000</TopLeftCorner>
        <TileWidth>256</TileWidth>
        <TileHeight>256</TileHeight>
        <MatrixWidth>1024</MatrixWidth>
        <MatrixHeight>1024</MatrixHeight>
      </TileMatrix>
      <TileMatrix>
        <ows:Abstract>Zoom_11</ows:Abstract>
        <ows:Identifier>11</ows:Identifier>
        <ScaleDenominator>3571.875</ScaleDenominator>
        <TopLeftCorner>-925000 -920000</TopLeftCorner>
        <TileWidth>256</TileWidth>
        <TileHeight>256</TileHeight>
        <MatrixWidth>2048</MatrixWidth>
        <MatrixHeight>2048</MatrixHeight>
      </TileMatrix>
      <TileMatrix>
        <ows:Abstract>Zoom_12</ows:Abstract>
        <ows:Identifier>12</ows:Identifier>
        <ScaleDenominator>1785.9375</ScaleDenominator>
        <TopLeftCorner>-925000 -920000</TopLeftCorner>
        <TileWidth>256</TileWidth>
        <TileHeight>256</TileHeight>
        <MatrixWidth>4096</MatrixWidth>
        <MatrixHeight>4096</MatrixHeight>
      </TileMatrix>
      <TileMatrix>
        <ows:Abstract>Zoom_13</ows:Abstract>
        <ows:Identifier>13</ows:Identifier>
        <ScaleDenominator>892.96875</ScaleDenominator>
        <TopLeftCorner>-925000 -920000</TopLeftCorner>
        <TileWidth>256</TileWidth>
        <TileHeight>256</TileHeight>
        <MatrixWidth>8192</MatrixWidth>
        <MatrixHeight>8192</MatrixHeight>
      </TileMatrix>
      <TileMatrix>
        <ows:Abstract>Zoom_14</ows:Abstract>
        <ows:Identifier>14</ows:Identifier>
        <ScaleDenominator>446.484375</ScaleDenominator>
        <TopLeftCorner>-925000 -920000</TopLeftCorner>
        <TileWidth>256</TileWidth>
        <TileHeight>256</TileHeight>
        <MatrixWidth>16384</MatrixWidth>
        <MatrixHeight>16384</MatrixHeight>
      </TileMatrix>
      <TileMatrix>
        <ows:Abstract>Zoom_15</ows:Abstract>
        <ows:Identifier>15</ows:Identifier>
        <ScaleDenominator>223.2421875</ScaleDenominator>
        <TopLeftCorner>-925000 -920000</TopLeftCorner>
        <TileWidth>256</TileWidth>
        <TileHeight>256</TileHeight>
        <MatrixWidth>32768</MatrixWidth>
        <MatrixHeight>32768</MatrixHeight>
      </TileMatrix>
      <TileMatrix>
        <ows:Abstract>Zoom_16</ows:Abstract>
        <ows:Identifier>16</ows:Identifier>
        <ScaleDenominator>111.62109375</ScaleDenominator>
        <TopLeftCorner>-925000 -920000</TopLeftCorner>
        <TileWidth>256</TileWidth>
        <TileHeight>256</TileHeight>
        <MatrixWidth>65536</MatrixWidth>
        <MatrixHeight>65536</MatrixHeight>
      </TileMatrix>
      <TileMatrix>
        <ows:Abstract>Zoom_17</ows:Abstract>
        <ows:Identifier>17</ows:Identifier>
        <ScaleDenominator>55.810546875</ScaleDenominator>
        <TopLeftCorner>-925000 -920000</TopLeftCorner>
        <TileWidth>256</TileWidth>
        <TileHeight>256</TileHeight>
        <MatrixWidth>131072</MatrixWidth>
        <MatrixHeight>131072</MatrixHeight>
      </TileMatrix>
      <TileMatrix>
        <ows:Abstract>Zoom_18</ows:Abstract>
        <ows:Identifier>18</ows:Identifier>
        <ScaleDenominator>27.9052734375</ScaleDenominator>
        <TopLeftCorner>-925000 -920000</TopLeftCorner>
        <TileWidth>256</TileWidth>
        <TileHeight>256</TileHeight>
        <MatrixWidth>262144</MatrixWidth>
        <MatrixHeight>262144</MatrixHeight>
      </TileMatrix>
      <TileMatrix>
        <ows:Abstract>Zoom_19</ows:Abstract>
        <ows:Identifier>19</ows:Identifier>
        <ScaleDenominator>13.95263671875</ScaleDenominator>
        <TopLeftCorner>-925000 -920000</TopLeftCorner>
        <TileWidth>256</TileWidth>
        <TileHeight>256</TileHeight>
        <MatrixWidth>524288</MatrixWidth>
        <MatrixHeight>524288</MatrixHeight>
      </TileMatrix>
    </TileMatrixSet>
    <TileMatrixSet>
      <ows:Abstract>Definiční body parcel</ows:Abstract>
      <ows:Identifier>DEF_PARCELY</ows:Identifier>
      <ows:SupportedCRS>EPSG:5514</ows:SupportedCRS>
	  <TileMatrix>
        <ows:Abstract>Zoom_00</ows:Abstract>
        <ows:Identifier>0</ows:Identifier>
        <ScaleDenominator>7315200.0</ScaleDenominator>
        <TopLeftCorner>-925000 -920000</TopLeftCorner>
        <TileWidth>256</TileWidth>
        <TileHeight>256</TileHeight>
        <MatrixWidth>1</MatrixWidth>
        <MatrixHeight>1</MatrixHeight>
      </TileMatrix>
      <TileMatrix>
        <ows:Abstract>Zoom_01</ows:Abstract>
        <ows:Identifier>1</ows:Identifier>
        <ScaleDenominator>3657600.0</ScaleDenominator>
        <TopLeftCorner>-925000 -920000</TopLeftCorner>
        <TileWidth>256</TileWidth>
        <TileHeight>256</TileHeight>
        <MatrixWidth>2</MatrixWidth>
        <MatrixHeight>2</MatrixHeight>
      </TileMatrix>
      <TileMatrix>
        <ows:Abstract>Zoom_02</ows:Abstract>
        <ows:Identifier>2</ows:Identifier>
        <ScaleDenominator>1828800.0</ScaleDenominator>
        <TopLeftCorner>-925000 -920000</TopLeftCorner>
        <TileWidth>256</TileWidth>
        <TileHeight>256</TileHeight>
        <MatrixWidth>4</MatrixWidth>
        <MatrixHeight>4</MatrixHeight>
      </TileMatrix>
      <TileMatrix>
        <ows:Abstract>Zoom_03</ows:Abstract>
        <ows:Identifier>3</ows:Identifier>
        <ScaleDenominator>914400.0</ScaleDenominator>
        <TopLeftCorner>-925000 -920000</TopLeftCorner>
        <TileWidth>256</TileWidth>
        <TileHeight>256</TileHeight>
        <MatrixWidth>8</MatrixWidth>
        <MatrixHeight>8</MatrixHeight>
      </TileMatrix>
      <TileMatrix>
        <ows:Abstract>Zoom_04</ows:Abstract>
        <ows:Identifier>4</ows:Identifier>
        <ScaleDenominator>457200.0</ScaleDenominator>
        <TopLeftCorner>-925000 -920000</TopLeftCorner>
        <TileWidth>256</TileWidth>
        <TileHeight>256</TileHeight>
        <MatrixWidth>16</MatrixWidth>
        <MatrixHeight>16</MatrixHeight>
      </TileMatrix>
      <TileMatrix>
        <ows:Abstract>Zoom_05</ows:Abstract>
        <ows:Identifier>5</ows:Identifier>
        <ScaleDenominator>228600.0</ScaleDenominator>
        <TopLeftCorner>-925000 -920000</TopLeftCorner>
        <TileWidth>256</TileWidth>
        <TileHeight>256</TileHeight>
        <MatrixWidth>32</MatrixWidth>
        <MatrixHeight>32</MatrixHeight>
      </TileMatrix>
      <TileMatrix>
        <ows:Abstract>Zoom_06</ows:Abstract>
        <ows:Identifier>6</ows:Identifier>
        <ScaleDenominator>114300.0</ScaleDenominator>
        <TopLeftCorner>-925000 -920000</TopLeftCorner>
        <TileWidth>256</TileWidth>
        <TileHeight>256</TileHeight>
        <MatrixWidth>64</MatrixWidth>
        <MatrixHeight>64</MatrixHeight>
      </TileMatrix>
      <TileMatrix>
        <ows:Abstract>Zoom_07</ows:Abstract>
        <ows:Identifier>7</ows:Identifier>
        <ScaleDenominator>57150.0</ScaleDenominator>
